Workbook
Name CHARGES: #REF!
Name ENTREES_BANQUE: #REF!
Name ENTREES_CAISSE: #REF!
Name n_pj: '[1]Compta vierge'!$A$1:$A$345
Name PRODUITS: #REF!
Name RECUES: #REF!
Name SORTIES_BANQUE: #REF!
Name SORTIES_CAISSE: #REF!
Name TOTAL_CHARGES: #REF!
Name TOTAL_PRODUITS: #REF!
Name VENTILATION: #REF!
Name VERSEES: #REF!

Sheet Info
C1: OCCE DE LA REUNION
C2: Cahier de comptabilité de coopérative de classe Les cases de couleur jaune sont à renseigner | I2: Dans quel compte ventiler une dépense ou une recette ?
A4: COOPERATIVE SCOLAIRE DE L'ECOLE | C4: COOPERATIVE SCOLAIRE DE L'ECOLE | I4: 70700008 | J4: Argent récolté de la vente d'articles non fabriqués par les enfants , calendriers, ... L'argent des photos de classes ne transite pas par la coop de classe!
I6: 60700008 | J6: Dépenses faites pour acheter des produits finis destinés à la revente, sans modification
A7: COOPERATIVE DE CLASSE | I7: 70800008 | J7: Recettes tirées des kermesses, des lotos et des participations demandées pour les activités éducatives SI ces sommes ne sont pas remises au mandataire de la coop école… Ces participations financières auront toujours un aspect facultatif.
A9: Année scolaire
I10: 61810008 | J10: Ensemble des charges résultant des activités pédagogiques de la coopérative de classe…
A11: Classe
A13: Effectif
I14: 7562 0008 | J14: Participations des familles = uniquement le montant de la cotisation. Ce compte n'est habituellement pas utilisé dans une coop de classe.
A15: Nom de l'enseignant.e
A17: CONSEIL DE COOPERATIVE DE CLASSE | I17: 77000008 | J17: Recettes inattendues : dons, solidarité.
I18: 67000008 | J18: Ce compte devrait toujours être minime : solidarité internationale, nationale, ou dans l’école…
B19: Du | E19: au
A21: Président | I21: Quelques conseils
A23: Secrétaire | I23: þ | J23: La coopérative de classe ne peut gérer que des espèces ; Les chèques sont remis au mandataire ; A aucun moment la caisse ne doit être en situation négative.
A25: Trésorier
B27: Du | E27: au | I27: þ | J27: En fin d’année scolaire, le tuteur remettra au mandataire de la coopérative d’école son compte de fonctionnement. Celui-ci sera intégré dans les comptes de la coopérative d’école.
A29: Président
A31: Secrétaire | I31: þ | J31: Il est interdit d’utiliser son compte personnel pour gérer les fonds de la coopérative de classe....même si ces sommes ne font qu’y transiter
A33: Trésorier
I34: þ | J34: Il est interdit d’utiliser à des fins personnelles les sommes importantes du début d’année et de rembourser en effectuant au cours de l’année les achats pour la classe
B35: Du | E35: au
A37: Président | I37: þ | J37: Les achats : Régler avec des espèces uniquement, pas de chèque, pas CB personnelle ! La régie d'avance a été effectuée en espèces dans ce sens. L'achat d’un gros équipement (livres BCD, matériel audio-visuel...) est du ressort de la coop. d'école.
A39: Secrétaire
A41: Trésorier

Sheet Visualisation classique
C1: OCCE de La Réunion | E1: Coopérative Scolaire de l'École :
C2: Année scolaire | E2: =Info!$A$5 -> 0
C3: =Info!$C$9 -> 0 | E3: Cahier de comptabilité de la classe | H3: =Info!$C$11 -> 0
E4: de | F4: =Info!$D$15 -> 0
A7: N° P. J. | B7: Date | C7: Libellé des opérations * | D7: Mouvements Internes | F7: 530 CAISSE | J7: Charges ou Dépenses | N7: Produits ou Recettes
D8: montant rendu | E8: montant reçu | F8: Entrées | G8: Sorties | H8: Solde
J9: 6070 0008: Achat d'objets à revendre | K9: 6181 0008: Activités éducatives | L9: 6700 0008: Dépenses exceptionnelles | M9: TOTAL DES DEPESES | N9: 7070 0008: Vente d'objets | O9: 7080 0008: Recettes éducatives | P9: 7562 0008: Participations des familles | Q9: 7700 0008: Recettes exceptionnelles | R9: TOTAL DES RECETTES
A10: 1 | B10: 39326 | C10: Début d'année | H10: 0
A11: 2 | H11: =H10+F11-G11 -> 0 | I11: =IF(ABS((R11-M11+E11)-((F11)-(G11)+D11))<0.005,0,1) -> 0 | M11: =SUM(J11:L11) -> 0 | R11: =SUM(N11:Q11) -> 0
A12: 3 | H12: =H11+F12-G12 -> 0 | I12: =IF(ABS((R12-M12+E12)-((F12)-(G12)+D12))<0.005,0,1) -> 0 | M12: =SUM(J12:L12) -> 0 | R12: =SUM(N12:Q12) -> 0
A13: 3 | H13: =H12+F13-G13 -> 0 | I13: =IF(ABS((R13-M13+E13)-((F13)-(G13)+D13))<0.005,0,1) -> 0 | M13: =SUM(J13:L13) -> 0 | R13: =SUM(N13:Q13) -> 0
A14: 4 | H14: =H13+F14-G14 -> 0 | I14: =IF(ABS((R14-M14+E14)-((F14)-(G14)+D14))<0.005,0,1) -> 0 | M14: =SUM(J14:L14) -> 0 | R14: =SUM(N14:Q14) -> 0
A15: 4 | H15: =H14+F15-G15 -> 0 | I15: =IF(ABS((R15-M15+E15)-((F15)-(G15)+D15))<0.005,0,1) -> 0 | M15: =SUM(J15:L15) -> 0 | R15: =SUM(N15:Q15) -> 0
A16: 5 | H16: =H15+F16-G16 -> 0 | I16: =IF(ABS((R16-M16+E16)-((F16)-(G16)+D16))<0.005,0,1) -> 0 | M16: =SUM(J16:L16) -> 0 | R16: =SUM(N16:Q16) -> 0
A17: 5 | H17: =H16+F17-G17 -> 0 | I17: =IF(ABS((R17-M17+E17)-((F17)-(G17)+D17))<0.005,0,1) -> 0 | M17: =SUM(J17:L17) -> 0 | R17: =SUM(N17:Q17) -> 0
A18: 6 | H18: =H17+F18-G18 -> 0 | I18: =IF(ABS((R18-M18+E18)-((F18)-(G18)+D18))<0.005,0,1) -> 0 | M18: =SUM(J18:L18) -> 0 | R18: =SUM(N18:Q18) -> 0
A19: 6 | H19: =H18+F19-G19 -> 0 | I19: =IF(ABS((R19-M19+E19)-((F19)-(G19)+D19))<0.005,0,1) -> 0 | M19: =SUM(J19:L19) -> 0 | R19: =SUM(N19:Q19) -> 0
A20: 7 | H20: =H19+F20-G20 -> 0 | I20: =IF(ABS((R20-M20+E20)-((F20)-(G20)+D20))<0.005,0,1) -> 0 | M20: =SUM(J20:L20) -> 0 | R20: =SUM(N20:Q20) -> 0
A21: 7 | H21: =H20+F21-G21 -> 0 | I21: =IF(ABS((R21-M21+E21)-((F21)-(G21)+D21))<0.005,0,1) -> 0 | M21: =SUM(J21:L21) -> 0 | R21: =SUM(N21:Q21) -> 0
A22: 9 | H22: =H21+F22-G22 -> 0 | I22: =IF(ABS((R22-M22+E22)-((F22)-(G22)+D22))<0.005,0,1) -> 0 | M22: =SUM(J22:L22) -> 0 | R22: =SUM(N22:Q22) -> 0
... A37: 24 | H37: =H36+F37-G37 -> 0 | I37: =IF(ABS((R37-M37+E37)-((F37)-(G37)+D37))<0.005,0,1) -> 0 | M37: =SUM(J37:L37) -> 0 | R37: =SUM(N37:Q37) -> 0
A38: 25 | H38: =H37+F38-G38 -> 0 | M38: =SUM(J38:L38) -> 0 | R38: =SUM(N38:Q38) -> 0
A39: 26 | H39: =H38+F39-G39 -> 0 | M39: =SUM(J39:L39) -> 0 | R39: =SUM(N39:Q39) -> 0
A40: 27 | H40: =H39+F40-G40 -> 0 | M40: =SUM(J40:L40) -> 0 | R40: =SUM(N40:Q40) -> 0
A41: 28 | H41: =H40+F41-G41 -> 0 | M41: =SUM(J41:L41) -> 0 | R41: =SUM(N41:Q41) -> 0
A42: 29 | H42: =H41+F42-G42 -> 0 | M42: =SUM(J42:L42) -> 0 | R42: =SUM(N42:Q42) -> 0
A43: 30 | H43: =H42+F43-G43 -> 0 | M43: =SUM(J43:L43) -> 0 | R43: =SUM(N43:Q43) -> 0
A44: 31 | H44: =H43+F44-G44 -> 0 | M44: =SUM(J44:L44) -> 0 | R44: =SUM(N44:Q44) -> 0
A45: 32 | H45: =H44+F45-G45 -> 0 | M45: =SUM(J45:L45) -> 0 | R45: =SUM(N45:Q45) -> 0
A46: 33 | H46: =H45+F46-G46 -> 0 | M46: =SUM(J46:L46) -> 0 | R46: =SUM(N46:Q46) -> 0
A47: 34 | H47: =H46+F47-G47 -> 0 | M47: =SUM(J47:L47) -> 0 | R47: =SUM(N47:Q47) -> 0
A48: 35 | H48: =H47+F48-G48 -> 0 | M48: =SUM(J48:L48) -> 0 | R48: =SUM(N48:Q48) -> 0
A49: 36 | H49: =H48+F49-G49 -> 0 | M49: =SUM(J49:L49) -> 0 | R49: =SUM(N49:Q49) -> 0
... A51: 38 | H51: =H50+F51-G51 -> 0 | M51: =SUM(J51:L51) -> 0 | R51: =SUM(N51:Q51) -> 0
A52: 39 | H52: =H51+F52-G52 -> 0 | I52: =IF(ABS((R52-M52+E52)-((F52)-(G52)+D52))<0.005,0,1) -> 0 | M52: =SUM(J52:L52) -> 0 | R52: =SUM(N52:Q52) -> 0
A53: 40 | H53: =H52+F53-G53 -> 0 | M53: =SUM(J53:L53) -> 0 | R53: =SUM(N53:Q53) -> 0
A54: 41 | H54: =H53+F54-G54 -> 0 | M54: =SUM(J54:L54) -> 0 | R54: =SUM(N54:Q54) -> 0
A55: 42 | H55: =H54+F55-G55 -> 0 | M55: =SUM(J55:L55) -> 0 | R55: =SUM(N55:Q55) -> 0
A56: 43 | H56: =H55+F56-G56 -> 0 | M56: =SUM(J56:L56) -> 0 | R56: =SUM(N56:Q56) -> 0
A57: 44 | H57: =H56+F57-G57 -> 0 | M57: =SUM(J57:L57) -> 0 | R57: =SUM(N57:Q57) -> 0
...

Sheet Bilan Coop classe
B2: ÉCOLE | C2: =Info!A5 -> 0
B3: CLASSE | C3: =Info!C11 -> 0 | F3: EFFECTIF | G3: =Info!C13 -> 0
B4: TUTEUR.TRICE | C4: =Info!D15 -> 0
C6: ANNEE SCOLAIRE | G6: =Info!$C$9 -> 0
A8: COMPTES DE FONCTIONNEMENT GÉNÉRAL
A9: DU 01 SEPTEMBRE AU 31 AOÛT
A12: 6070 0008 | B12: Achat d'objets à revendre | D12: ='Visualisation classique'!J64 -> 0 | F12: 7070 0008 | G12: Vente d'objets | I12: ='Visualisation classique'!N64 -> 0
A14: 6181 0008 | B14: Activités éducatives | D14: ='Visualisation classique'!K64 -> 0 | F14: 7080 0008 | G14: Recettes éducatives | I14: ='Visualisation classique'!O64 -> 0
A16: 6700 0008 | B16: Dépenses exceptionnelles | D16: ='Visualisation classique'!L64 -> 0 | F16: 7562 0008 | G16: Participations des familles | I16: ='Visualisation classique'!P64 -> 0
F18: 7700 0008 | G18: Recettes exceptionnelles | I18: ='Visualisation classique'!Q64 -> 0
B20: Total des charges | D20: =SUM(D12,D14,D16) -> 0 | G20: Total des produits | I20: =SUM(I12,I14,I16,I18) -> 0
A22: Sommes versées à la coop école | D22: ='Visualisation classique'!D64 -> 0 | F22: Sommes reçues de la coop école | I22: ='Visualisation classique'!E64 -> 0
B24: TOTAL 1 | D24: =D20+D22 -> 0 | G24: TOTAL 2 | I24: =I20+I22 -> 0
A27: =IF(ABS(D24-I24)<0.005,"BILAN ÉQUILIBRÉ","ERREUR : TOTAL 1 doit être égal à TOTAL 2") -> BILAN ÉQUILIBRÉ
B29: Le tuteur | D29: Le trésorier élève | G29: Le président élève
A43: Ce bilan dûment renseigné sera remis au mandataire
A44: de la coopérative de l'école en fin d'année scolaire
